BEGIN:VCALENDAR
VERSION:2.0
PRODID:-//TYPO3/NONSGML Calendarize//EN
BEGIN:VEVENT
UID:calendarize-3d-werkstatt-20260528
CONTACT:JUP
DTSTAMP:20250626T125301Z
DTSTART:20260528T153000Z
DTEND:20260528T190000Z
SUMMARY:3D-Werkstatt
DESCRIPTION:Ob Anfänger:innen oder Fortgeschrittene\, in der „3D-Werkst
 att“ könnt ihr mit einer 3D-Software eigene Objekte designen\, mit eine
 m 3D-Drucker ausdrucken und zusätzlich mit den Farben eurer Wahl bemalen.
 \n\nDo von 14:00 – 17:00 Uhr | 8 bis 13 Jahre\nDo von 17:00 – 19:00 Uh
 r | 14 bis 27 Jahre
X-ALT-DESC;FMTTYPE=text/html:
LOCATION:Weinmeisterhaus - Jugendkulturzentrum Mitte, Weinmeisterstr. 15 ,
  10178 Berlin, Tel: 030 270044 971
END:VEVENT
END:VCALENDAR
