BEGIN:VCALENDAR
VERSION:2.0
PRODID:-//TYPO3/NONSGML Calendarize//EN
BEGIN:VEVENT
UID:calendarize-8-nachbarschaftsfest-am-rathaus-schoeneberg
CONTACT:Veranstaltungskalender für Familien in Berlin
DTSTAMP:20250626T132705Z
DTSTART:20260613T120000Z
DTEND:20260613T190000Z
SUMMARY:8. Nachbarschaftsfest am Rathaus Schöneberg
DESCRIPTION:Gemeinnütziges Straßenfest mit vielen Angeboten für Jung un
 d Alt. Zahlreiche Stände\, die über regionale Angebote und Möglichkeite
 n informieren\, Mitmachaktionen und ein buntes Bühnenprogramm auf zwei Bü
 hnen sowie kulinarische Köstlichkeiten laden zum Verweilen ein. Eintritt 
 frei! Familienfreundliche Preise für Speisen und Getränke! Viele Attrakt
 ionen und Spielstände gratis! Das Fest ist nicht gewinnorientiert. Die Ei
 nnahmeüberschüsse werden sozialen Zwecken zugeführt.
X-ALT-DESC;FMTTYPE=text/html:
LOCATION:am Rathaus Schöneberg, John-F.-Kennedy-Platz und Freiherr-vom-St
 ein-Str. , 10825 Berlin, Tel: 030 90277-3497
END:VEVENT
END:VCALENDAR
