BEGIN:VCALENDAR
VERSION:2.0
PRODID:-//TYPO3/NONSGML Calendarize//EN
BEGIN:VEVENT
UID:calendarize-aus-alt-mach-neu-upcycling-workshop-fuer-kinder-20260611-3
 8
CONTACT:JUP
DTSTAMP:20250918T111502Z
DTSTART:20260611T140000Z
DTEND:20260611T160000Z
SUMMARY:Aus Alt mach Neu | Upcycling-Workshop für Kinder
DESCRIPTION:Aus Alltagsgegenständen etwas Neues entstehen lassen. Für Ki
 nder ab 8 Jahren. Wir laden herzlich zu unserem Upcycling-Workshop ein! Hi
 er wirst du lernen\, wie du aus Alltagsgegenständen etwas Neues kreieren 
 kannst. Wir werden mit Materialien wie Konservendosen\, Klopapierrollen\, 
 CDs und ganz vielen Farben arbeiten. Lass deiner Fantasie freien Lauf und 
 entdecke\, wie du aus alten Materialien zum Beispiel süße Tiere\, bunte 
 Blumentöpfe und viele andere kreative Projekte gestalten kannst. Wir freu
 en uns auf einen kreativen Sommer voller Ideen und Spaß! Für Kinder ab 8
  Jahren. Ohne Anmeldung.
X-ALT-DESC;FMTTYPE=text/html:
LOCATION:Amerika-Gedenkbibliothek, Blücherplatz 1 , 10961 Berlin, Tel: 03
 0 90226401
END:VEVENT
END:VCALENDAR
