BEGIN:VCALENDAR
VERSION:2.0
PRODID:-//TYPO3/NONSGML Calendarize//EN
BEGIN:VEVENT
UID:calendarize-ballet-20260514
CONTACT:JUP
DTSTAMP:20250626T125301Z
DTSTART:20260514T170000Z
DTEND:20260514T190000Z
SUMMARY:Tänzel Culture Battle
DESCRIPTION:Die Tanzfläche ist eröffnet\, lasst die Tänze beginnen: K-P
 op\, Hip Hop\, Flamenco\, Dabke\, Ballett\, Zeitgenössischer Tanz – all
 e sind willkommen! Zeig deine Tanzleidenschaft\, feier mit uns und lerne v
 on anderen. Es geht nicht um Competition\, sondern darum\, wie Tanz Welten
  verbindet. Komm auch nur zum Anfeuern – wir schaffen einen Raum für We
 rtschätzung\, Jubel und Austausch.Do von 17:00 - 19:00 Uhr | 14 bis 27 Ja
 hreEG – Saal (Raum 002+003)* an Feiertagen und in den Schulferien findet
  das Angebot nicht statt
X-ALT-DESC;FMTTYPE=text/html:
LOCATION:Weinmeisterhaus - Jugendkulturzentrum Mitte, Weinmeisterstr. 15 ,
  10178 Berlin, Tel: 030 270044 971
END:VEVENT
END:VCALENDAR
