BEGIN:VCALENDAR
VERSION:2.0
PRODID:-//TYPO3/NONSGML Calendarize//EN
BEGIN:VEVENT
UID:calendarize-beatproduktion-20260602
CONTACT:JUP
DTSTAMP:20250626T125301Z
DTSTART:20260602T153000Z
DTEND:20260602T190000Z
SUMMARY:Beatproduktion
DESCRIPTION:Hier gibt es Raum zum Erschaffen eigener Klangwelten\, Beats u
 nd Rhythmen. Schreibe deinen eigenen Song\, oder experimentiere mit den vi
 elen Möglichkeiten\, die Musik bietet.\n\nDi von 15:30 – 17:00 Uhr | 8 
 bis 13 Jahre\nDi von 17:00 – 19:00 Uhr | 14 bis 27 Jahre\n\n 
X-ALT-DESC;FMTTYPE=text/html:
LOCATION:Weinmeisterhaus - Jugendkulturzentrum Mitte, Weinmeisterstr. 15 ,
  10178 Berlin, Tel: 030 270044 971
END:VEVENT
END:VCALENDAR
