BEGIN:VCALENDAR
VERSION:2.0
PRODID:-//TYPO3/NONSGML Calendarize//EN
BEGIN:VEVENT
UID:calendarize-beratungsangebot-digital-zebra-20260421
CONTACT:Veranstaltungskalender für Familien in Berlin
DTSTAMP:20250626T132705Z
DTSTART:20260421T150000Z
DTEND:20260421T190000Z
SUMMARY:Beratungsangebot: DIGITAL-ZEBRA
DESCRIPTION:Neues Beratungsangebot: DIGITAL-ZEBRA – Sicher auf die digit
 ale Seite!\n\nProbleme mit dem Internet\, Smartphone oder digitalen Formul
 aren? Dann kommen Sie zum DIGITAL-ZEBRA! Unser Digital-Lotse Ron Rothe unt
 erstützt Sie ohne Voranmeldung und kostenfrei.\nOb Arzttermin\, Behörden
 vorgang oder auch die digitale Eintrittskarte\, Ron zeigt Ihnen\, wie es g
 eht! Kommen Sie einfach vorbei\, bringen Sie Ihre Fragen und Ihr Gerät mi
 t oder schauen Sie mit Ron in unsere Computer. Er beantwortet Fragen und g
 ibt praktische Tipps\, damit alle digitale Angebote sicher und stressfrei 
 nutzen können.\nDas DIGITAL-ZEBRA findet mit Ihnen für jedes digitale Pr
 oblem eine Lösung! \n\nMo 	12:30 – 16:30 Uhr\nDi 	15:00 – 19:00 Uhr\n
 Mi 	12:30 – 16:30 Uhr\nFr 	12:30 – 16:30 Uhr\nSa   11:00 – 15:00 Uhr
  (nur jeden ersten Samstag im Monat)
X-ALT-DESC;FMTTYPE=text/html:
LOCATION:Mittelpunktbibliothek Adalbertstraße Wilhelm-Liebknecht-/Namik-K
 emal-Bibliothek, Adalbertstr. 2 , 10999 Berlin, Tel: 
END:VEVENT
END:VCALENDAR
