BEGIN:VCALENDAR
VERSION:2.0
PRODID:-//TYPO3/NONSGML Calendarize//EN
BEGIN:VEVENT
UID:calendarize-bilderbuchkino-in-der-mittelpunktbibliothek-wilhelm-liebkn
 echt-namik-kemal-20260504
CONTACT:Veranstaltungskalender für Familien in Berlin
DTSTAMP:20250626T132705Z
DTSTART:20260504T160000Z
SUMMARY:Bilderbuchkino in der Mittelpunktbibliothek Wilhelm Liebknecht / N
 amik Kemal
DESCRIPTION:Für unsere jüngsten Gäste ab 3 Jahren stellen wir auf der L
 einwand ein spannendes Bilderbuch vor. Das Buch wählen wir immer direkt j
 e nach Gruppe des Tages aus. Lasst euch überraschen. Kommt gern ohne Vora
 nmeldung vorbei. Wir freuen uns auf euch!
X-ALT-DESC;FMTTYPE=text/html:
LOCATION:Mittelpunktbibliothek Adalbertstraße Wilhelm-Liebknecht-/Namik-K
 emal-Bibliothek, Adalbertstr. 2 , 10999 Berlin, Tel: 
END:VEVENT
END:VCALENDAR
