BEGIN:VCALENDAR
VERSION:2.0
PRODID:-//TYPO3/NONSGML Calendarize//EN
BEGIN:VEVENT
UID:calendarize-bilderbuchkino-in-der-stadtteilbibliothek-friedrich-von-ra
 umer-20260423
CONTACT:Veranstaltungskalender für Familien in Berlin
DTSTAMP:20250626T132705Z
DTSTART:20260423T161500Z
SUMMARY:Bilderbuchkino in der Stadtteilbibliothek Friedrich von Raumer
DESCRIPTION:Für unsere jüngsten Gäste ab 3 Jahren stellen wir auf der L
 einwand ein spannendes Bilderbuch vor. Das Buch wählen wir immer direkt j
 e nach Gruppe des Tages aus. Lasst euch überraschen. Kommt gern ohne Vora
 nmeldung vorbei. Wir freuen uns auf euch!
X-ALT-DESC;FMTTYPE=text/html:
LOCATION:Stadtteilbibliothek Friedrich von Raumer, Dudenstr. 18-20 , 10965
  Berlin, Tel: 
END:VEVENT
END:VCALENDAR
