BEGIN:VCALENDAR
VERSION:2.0
PRODID:-//TYPO3/NONSGML Calendarize//EN
BEGIN:VEVENT
UID:calendarize-buechertroedel-20260502
CONTACT:Veranstaltungskalender für Familien in Berlin
DTSTAMP:20250626T132705Z
DTSTART:20260502T100000Z
DTEND:20260502T140000Z
SUMMARY:Büchertrödel
DESCRIPTION:Unsere Medien bleiben nicht dauerhaft in unserem Bestand. Wir 
 sortieren kontinuierlich aus. \nDadurch ergeben sich großartige Gelegenhe
 iten für Trödelfans! Jeden ersten Samstag im Monat von 10 bis 14 Uhr ver
 anstalten wir im Foyer der Bezirkszentralbibliothek Pablo Neruda unseren B
 üchertrödel.\nDabei kommen nicht nur Bücherfreund*innen auf ihre Kosten
  – neben Romanen\, Sachliteratur und Kinderbüchern finden sich hier auc
 h Comics\, Mangas und DVDs. Kommen Sie vorbei\, um nach verborgenen Schät
 zen zu stöbern!\n\nDie Spenden für die Medien kommen dem Verein der Freu
 nde und Förderer der Stadtbibliotheken Friedrichshain und Kreuzberg e.V. 
 zugute. Dieser setzt sich aktiv für den Erhalt und die Weiterentwicklung 
 der Bibliotheken des Bezirks ein.\nIn unserem Programm finden Sie außerde
 m auch unregelmäßige Trödel-Formate\, wie den Kindersachenflohmarkt\, A
 nime- und Manga-Flohmarkt oder auch die Kleidertauschpartys.\n\nJeden erst
 en Samstag im Monat\n- Foyer der Bezirkszentralbibliothek Pablo Neruda\n- 
 Medien gegen Spende
X-ALT-DESC;FMTTYPE=text/html:
LOCATION:Pablo-Neruda-Bibliothek, Frankfurter Allee 14 A , 10247 Berlin, T
 el: 
END:VEVENT
END:VCALENDAR
