BEGIN:VCALENDAR
VERSION:2.0
PRODID:-//TYPO3/NONSGML Calendarize//EN
BEGIN:VEVENT
UID:calendarize-capoeira-20260428
CONTACT:JUP
DTSTAMP:20250626T125301Z
DTSTART:20260428T173000Z
DTEND:20260428T183000Z
SUMMARY:Capoeira
DESCRIPTION:Unser Capoeira-Workshop verbindet Kampfkunst\, Tanz\, Musik un
 d Akrobatik zu einem einzigartigen Erlebnis.Du lernst grundlegende Bewegun
 gen\, Rhythmen und Techniken dieser brasilianischen Kulturform – allein\
 , im Duo und in der Gruppe.Egal ob Anfänger*in oder mit Erfahrung: Hier s
 tärkst du Körpergefühl\, Reaktion und Teamgeist auf kreative Weise.Di v
 on 17:30 – 18:30 Uhr | 14 – 27 Jahre alt*Das Angebot findet an Feierta
 gen und während der Schulferien nicht statt
X-ALT-DESC;FMTTYPE=text/html:
LOCATION:Weinmeisterhaus - Jugendkulturzentrum Mitte, Weinmeisterstr. 15 ,
  10178 Berlin, Tel: 030 270044 971
END:VEVENT
END:VCALENDAR
