BEGIN:VCALENDAR
VERSION:2.0
PRODID:-//TYPO3/NONSGML Calendarize//EN
BEGIN:VEVENT
UID:calendarize-clean-up-von-wiramleo-am-leopoldplatz-20260503
CONTACT:Veranstaltungskalender für Familien in Berlin
DTSTAMP:20250626T132705Z
DTSTART:20260503T140000Z
SUMMARY:Clean Up von WIRamLEO am Leopoldplatz
DESCRIPTION:Gemeinsam aufräumen am Leopoldplatz - jeden ersten Sonntag im
  Monat\n\nSeit April 2023 treffen sich jeden ersten Sonntag im Monat Nachb
 ar*innen und räumen gemeinsam den Leopoldplatz etwas auf. Neben dem Einsa
 mmeln von Zigarettenkippen\, Kronkorken (wir haben Magnete!) und achtlos h
 ingeworfenen Kaffeebechern oder Verpackungen von Schokoriegeln - haben wir
  zwei gesellige Stunden\, um über Neuigkeiten aus den Kiezen rund um den 
 Leo zu plaudern.\n\nWir unterstützen die Nachbarschaft:\n\n- regelmäßig
 e Clean Ups rund um den Leo (Termine im Kalender)\n\n- helfen Nachbar*inne
 n beim Organisieren eigener Aktionen\n\n- zivilgesellschaftliches Engageme
 nt sichtbar machen - Haltung zeigen!\n\n\n#mittemachtsauber
X-ALT-DESC;FMTTYPE=text/html:
LOCATION:Leopoldplatz,  , 13353 Berlin, Tel: 
END:VEVENT
END:VCALENDAR
