BEGIN:VCALENDAR
VERSION:2.0
PRODID:-//TYPO3/NONSGML Calendarize//EN
BEGIN:VEVENT
UID:calendarize-comicmangaillustration-20260422
CONTACT:JUP
DTSTAMP:20250513T060730Z
DTSTART:20260422T153000Z
DTEND:20260422T190000Z
SUMMARY:Comic/Manga/Illustration
DESCRIPTION:Neben dem Comiczeichnen kannst du in unserem Kurs auch ganz al
 lgemein in die Welt der Illustration eintauchen. Ob du eigene Buchcover ge
 stalten\, Charakterdesigns entwerfen oder einfach schöne und spannende Bi
 lder malen möchtest – hier ist alles möglich! Egal\, ob du gerne mit S
 tift und Papier arbeitest oder lieber digitale Kunst erstellst – bei uns
  kannst du beides ausprobieren und deine Fähigkeiten weiterentwickeln.\n\
 nMi 15:30 – 17:00 Uhr | 8 bis 13 Jahre\nMi 17:00 – 19:00 Uhr | 14 bis 
 27 Jahre\n\n 
X-ALT-DESC;FMTTYPE=text/html:
LOCATION:Weinmeisterhaus - Jugendkulturzentrum Mitte, Weinmeisterstr. 15 ,
  10178 Berlin, Tel: 030 270044 971
END:VEVENT
END:VCALENDAR
