BEGIN:VCALENDAR
VERSION:2.0
PRODID:-//TYPO3/NONSGML Calendarize//EN
BEGIN:VEVENT
UID:calendarize-commercial-dance-20260525-35
CONTACT:JUP
DTSTAMP:20250918T111502Z
DTSTART:20260525T173000Z
DTEND:20260525T190000Z
SUMMARY:Choreografie Workshop
DESCRIPTION:Du tanzt TikToks alleine oder mit Freund*innen und kennst die 
 neuesten Moves? Dann komm vorbei und teile deine Leidenschaft! Lerne\, wie
  aus einzelnen Bewegungen ganze Choreografien entstehen. Wir nutzen den ga
 nzen Raum\, variieren Bewegungen und finden die passende Formation\, um da
 s auszudrücken\, was du erzählen willst.Mo von 17:30 - 19:00 Uhr | 12 bi
 s 18 JahreUG – Tanzstudio (Raum K03+04)* an Feiertagen und in den Schulf
 erien findet das Angebot nicht statt 
X-ALT-DESC;FMTTYPE=text/html:
LOCATION:Weinmeisterhaus - Jugendkulturzentrum Mitte, Weinmeisterstr. 15 ,
  10178 Berlin, Tel: 030 270044 971
END:VEVENT
END:VCALENDAR
