BEGIN:VCALENDAR
VERSION:2.0
PRODID:-//TYPO3/NONSGML Calendarize//EN
BEGIN:VEVENT
UID:calendarize-contemporary-dance-20260623-1
CONTACT:JUP
DTSTAMP:20250918T111502Z
DTSTART:20260623T180000Z
DTEND:20260623T193000Z
SUMMARY:Zeitgenössischer Tanz
DESCRIPTION:In diesem Kurs spielen wir mit Zeit\, Raum und dem Entdecken d
 er eigenen Kreativität. Vom erdenden Warmup über Improvisationen mit tä
 nzerischen Qualitäten bis hin zu kleinen Abfolgen erforschst du deine Bew
 egungsvielfalt\, testest deine Koordination\, lernst dich selber besser ke
 nnen und gehst in Verbindungen mit anderen. Im Cooldown hast du Zeit für 
 Entspannung und Reflexion. Di 18:00 - 19:30 Uhr | 18 bis 27 JahreUG – Ta
 nzstudio (Raum K03+04)*an Feiertagen und in den Schulferien findet das Ang
 ebot nicht statt 
X-ALT-DESC;FMTTYPE=text/html:
LOCATION:Weinmeisterhaus - Jugendkulturzentrum Mitte, Weinmeisterstr. 15 ,
  10178 Berlin, Tel: 030 270044 971
END:VEVENT
END:VCALENDAR
