BEGIN:VCALENDAR
VERSION:2.0
PRODID:-//TYPO3/NONSGML Calendarize//EN
BEGIN:VEVENT
UID:calendarize-das-beste-von-pettersson-und-findus-20260426-1
CONTACT:JUP
DTSTAMP:20250918T111502Z
DTSTART:20260426T163000Z
DTEND:20260620T173500Z
SUMMARY:Das Beste von Pettersson und Findus
DESCRIPTION:20. Sommer-Familientheater-Reihe\n\nIn der wunderschön renovi
 erten Freilichtbühne erleben Sie die besten Geschichten und Abenteuer aus
  den beliebtesten Büchern von Sven Nordqvist mit witziger Musik und mit v
 iel Schauspielspaß ab 4 bis 10 Jahren!\n\nDarum geht's:\nEigentlich will 
 Findus seinen Geburtstag feiern. Aber Nachbar Gustavsson stürzt herbei un
 d beunruhigt alle: man müsse schleunigst etwas gegen den Fuchs unternehme
 n. Deshalb lasse er seinen Hahn Caruso auf Petterssons Hof. Er sei schließ
 lich ein guter Beschützer\, weil er so schön laut krähen könne. Die Hü
 hnermädchen sind begeistert! Leider kräht der Aufschneider unentwegt. Fi
 ndus rastet aus: der ‚Gummiadler‘ muss in den Suppentopf\, und die Geb
 urtstagstorte endlich auf den Tisch!  - Petterssons ruhiges Landleben ist 
 dahin: der Kater quengelt\, die Hühnermädchen himmeln Caruso an\, und Gu
 stavsson bläst zur Fuchsjagd...
X-ALT-DESC;FMTTYPE=text/html:
LOCATION:Berliner KinderTheater | Sommertheater Freilichtbühne Spandau, A
 m Juliusturm 62 , 13359 Berlin, Tel: 030 62705926
END:VEVENT
END:VCALENDAR
