BEGIN:VCALENDAR
VERSION:2.0
PRODID:-//TYPO3/NONSGML Calendarize//EN
BEGIN:VEVENT
UID:calendarize-das-buchxhain-treff-20260512
CONTACT:Veranstaltungskalender für Familien in Berlin
DTSTAMP:20250626T132705Z
DTSTART:20260512T190000Z
DTEND:20260512T210000Z
SUMMARY:Das Buchxhain-Treff
DESCRIPTION:Wenn du Freude am Lesen hast\, oder diese Freude erst noch ent
 decken möchtest und überdies Lust hast\, dich dabei mit Nachbar*innen au
 szutauschen\, kannst du dich unserem Literaturclub im Kiez anschließen\; 
 DEINEM Club: den Buchxhain.\nWir wollen für uns noch unbekannte Autor*inn
 en und literarische Werke entdecken\, Diskussionen zu aktuellen gesellscha
 ftlichen Themen führen und dabei neue Nachbar*innen kennenlernen. Wir tre
 ffen uns einmal im Monat\, nachdem wir vorab alle dasselbe Buch gelesen ha
 ben\, und sprechen über das Gelesene. Alle sind willkommen und du brauchs
 t nichts anders als Neugierde mitzubringen. Wir sind keine Literaturprofis
  und streben keine hochintellektuellen\, akademischen Gespräche an. Wir w
 ollen Spaß haben und unser Leseerlebnisse miteinander teilen.\n\nBuchxhai
 n:\n– jeden ersten Dienstag im Monat\n– 19:00-21:00 Uhr\n\nEine Anmeld
 ung ist nicht nötig. Wenn du magst\, kannst du uns dennoch dein Kommen an
 kündigen: ostkreuz@kiez-für-alle.de\nUnd solltest du ein bisschen spät 
 dran sein\, so dass die Bibliothek schon geschlossen ist\, öffnen wir dir
  die Tür: 030/90298-5750.\n\nWir\, das ist die Kiezinitiative Ostkreuz –
  Kiez für Alle\, die das Leben rund um das Ostkreuz in Friedrichshain nac
 hhaltig sozialer und grüner gestalten will. Hier findet ihr mehr über un
 s und unsere Aktionen im Kiez: kiez-fuer-alle.de\n\nDie Buchxhain-Gruppe i
 nitiieren wir in Zusammenarbeit mit der Stadtbibliothek\nFriedrichshain-Kr
 euzberg\, Ansprechpartner dort ist Herr Koloska.\nHier findest du uns bei 
 Telegram: https://t.me/+B7um6DGY-cAxZDVi\n\nWir freuen uns auf euch und di
 e Bücher!\nLiebe Grüße aus der Nachbarschaft\; Ostkreuz – Kiez für A
 lle
X-ALT-DESC;FMTTYPE=text/html:
LOCATION:Pablo-Neruda-Bibliothek, Frankfurter Allee 14 A , 10247 Berlin, T
 el: 
END:VEVENT
END:VCALENDAR
