BEGIN:VCALENDAR
VERSION:2.0
PRODID:-//TYPO3/NONSGML Calendarize//EN
BEGIN:VEVENT
UID:calendarize-faden-techniken-20260602
CONTACT:JUP
DTSTAMP:20250626T125301Z
DTSTART:20260602T153000Z
DTEND:20260602T190000Z
SUMMARY:Faden-Techniken
DESCRIPTION:Sticken\, Häkeln\, Makramee sind zwar alte\, aber zeitlose Ha
 ndarbeitstechniken. Gemeinsam können wir verschiedene Methoden ausprobier
 en und voneinander lernen. Du hast Lust neue\, eigene Faden-Projekte zu st
 arten und dich auszutauschen? Hier ist jede*r willkommen\, um im Fadenmeer
  zu entschleunigen.\n\nDi 15:30 – 17:00 Uhr | 8 – 13 Jahre alt\n\nDi 1
 7:00 – 19:00 Uhr | 14 – 27 Jahre alt\n\n*Das Angebot findet an Feierta
 gen und während Schulferien nicht statt. 
X-ALT-DESC;FMTTYPE=text/html:
LOCATION:Weinmeisterhaus - Jugendkulturzentrum Mitte, Weinmeisterstr. 15 ,
  10178 Berlin, Tel: 030 270044 971
END:VEVENT
END:VCALENDAR
