BEGIN:VCALENDAR
VERSION:2.0
PRODID:-//TYPO3/NONSGML Calendarize//EN
BEGIN:VEVENT
UID:calendarize-farbatelier-20260604
CONTACT:JUP
DTSTAMP:20250626T125301Z
DTSTART:20260604T153000Z
DTEND:20260604T170000Z
SUMMARY:Farbatelier
DESCRIPTION:In unserem Farbatelier kannst du deiner Fantasie freien Lauf l
 assen und wunderschöne Bilder malen. Du kannst zeichnen\, mit Wachsmalsti
 ften\, Aquarell- und Acrylfarben arbeiten und sogar mit Linol drucken. Wir
  stellen dir eine Vielzahl an Materialien zur Verfügung\, damit du deine 
 eigenen Meisterwerke erschaffen kannst.Mi 15:30 – 17:00 Uhr | 8 bis 13 J
 ahre
X-ALT-DESC;FMTTYPE=text/html:
LOCATION:Weinmeisterhaus - Jugendkulturzentrum Mitte, Weinmeisterstr. 15 ,
  10178 Berlin, Tel: 030 270044 971
END:VEVENT
END:VCALENDAR
