BEGIN:VCALENDAR
VERSION:2.0
PRODID:-//TYPO3/NONSGML Calendarize//EN
BEGIN:VEVENT
UID:calendarize-figurentheater-festival-im-figurentheater-grashuepfer
CONTACT:JUP
DTSTAMP:20240923T195046Z
DTSTART:20290919T000000Z
DTEND:20290929T235900Z
SUMMARY:Figurentheater Festival im Figurentheater Grashüpfer
DESCRIPTION:STELL DIR VOR - PERSPEKTIVENWECHSEL\n\n \n\nFigurentheater Fes
 tival im Figurentheater Grashüpfer im Treptower Park 19.09.-29.09\n\n \n\
 nWie jedes Jahr veranstaltet das Figurentheater Grashüpfer im September e
 in zehntägiges Festival: ab dem 19.9. bis zum 29.9. bietet das Theater ei
 n abwechslungsreiches Programm mit Puppen-\, Figuren- und Objekttheater\, 
 Clown-\, Performance- und Musikvorstellungen. Unter dem Thema „Perspekti
 venwechsel“ ist das Publikum eingeladen\, in die Vielfalt der Lebenserfa
 hrungen einzutauchen und die Welt mit den Augen der anderen zu betrachten.
  Das Festival richtet sich an ein breites Publikum jeden Alters\, das Inte
 resse an kultureller Vielfalt und interkulturellem Austausch hat und sich 
 von dem Charme der Figurentheaterwelt bezaubern lassen möchte.\n\n \n\nKü
 nstler:innen: \n\nArtisanen\, Merlin Puppet Theater\, Susi Claus\, Ulrike 
 Kley\, Tandera Theater\, Rhama\, Bubbles Powder\, Muti Santarosa\, Janine 
 Schweiger\, Sonja Ortiz Emilio Urbay Zevallos\, Figurentheater Ute Kahmann
 \, Rotonda Teatro\, flunker produktionen.\n\n \n\n 
X-ALT-DESC;FMTTYPE=text/html:
LOCATION:Figurentheater Grashüpfer, Puschkinallee 16 , 12435 Berlin, Tel:
  3053695150
END:VEVENT
END:VCALENDAR
