BEGIN:VCALENDAR
VERSION:2.0
PRODID:-//TYPO3/NONSGML Calendarize//EN
BEGIN:VEVENT
UID:calendarize-filmzeit-20260422
CONTACT:JUP
DTSTAMP:20250513T060730Z
DTSTART:20260422T153000Z
DTEND:20260422T170000Z
SUMMARY:Virtuelle Welten
DESCRIPTION:Gestaltet und programmiert eure eigenen virtuelle Welten: Lass
 t eurer Fantasie freien Lauf – von tanzenden Dinosauriern in Büroräume
 n\, Piraten im Weltall oder auch Fahrrad fahren in einem Haus voller Katze
 n und Engel\, in unserer Werkstatt „Virtuelle Welten“ ist es möglich.
  Erstellt und gestaltet zusätzlich eure eigene VR-Brille und verwandelt e
 uer Smartphone in ein Gerät\, mit dem ihr (eure) virtuelle Welten erkunde
 n könnt.\n\nMi von 15:30 – 17:00 Uhr | 8 bis 13 Jahre\n\n\n 
X-ALT-DESC;FMTTYPE=text/html:
LOCATION:Weinmeisterhaus - Jugendkulturzentrum Mitte, Weinmeisterstr. 15 ,
  10178 Berlin, Tel: 030 270044 971
END:VEVENT
END:VCALENDAR
