BEGIN:VCALENDAR
VERSION:2.0
PRODID:-//TYPO3/NONSGML Calendarize//EN
BEGIN:VEVENT
UID:calendarize-fitness-fuer-kinder-3-5-jahre-20260510
CONTACT:JUP
DTSTAMP:20250626T125301Z
DTSTART:20260510T100000Z
DTEND:20260510T110000Z
SUMMARY:Fitness für Kinder (3 - 5 Jahre)
DESCRIPTION:Sie wünschen sich\, dass Ihr Kind stark\, aktiv und mit einer
  korrekten Körperhaltung aufwächst? Dann ist dieser Kurs genau das Richt
 ige. Wir werden Ihrem Kind helfen\, den Grundstein für einen gesunden und
  aktiven Lebensstil zu legen! In einer freundlichen und sicheren Atmosphä
 re arbeiten wir an der Kräftigung der Rückenmuskulatur\, an der Koordina
 tionsfähigkeit und Ausdauer\, an der Körperhaltung und machen allgemeine
  Entwicklungs- und Sportübungen in einem spielerischen Format. Schnuppers
 tunde: 10 EuroKurssprache: russischAnmeldung per Mail: Naity2017@yandex.ru
X-ALT-DESC;FMTTYPE=text/html:
LOCATION:KuBi17 - Kultur und Bildung, Ahlbecker Str. 17 , 10437 Berlin, Te
 l: 0176 – 4737 6278
END:VEVENT
END:VCALENDAR
