BEGIN:VCALENDAR
VERSION:2.0
PRODID:-//TYPO3/NONSGML Calendarize//EN
BEGIN:VEVENT
UID:calendarize-gaming-lounge-jeden-samstag-20260620-39
CONTACT:JUP
DTSTAMP:20250918T111502Z
DTSTART:20260620T100000Z
DTEND:20260620T140000Z
SUMMARY:Gaming Lounge - jeden Samstag
DESCRIPTION:Die Gaming Zone ist ein Ort für alle ab 12 Jahren\, die Spaß
  an Games\, Brettspielen und entspanntem Beisammensein haben. Hier kannst 
 du neue Games ausprobieren\, gemeinsam spielen\, Filme schauen und Freund*
 innen treffen.Was dich erwartet:Brettspiele & Kartenspiele in großer Ausw
 ahlSchach zum Spielen vor OrtKonsolenspiele für Nintendo Switch und Switc
 h 2\, Xbox\, PlayStation 4 und 5Nintendo Switch- und PlayStation 5-Konsole
 nController und KopfhörerVR-BrillenBequeme Sofas zum Entspannen und gemei
 nsamen SpielenTische für Spielenachmittage mit Freund*innenGaming-Zeiten:
 Montag bis Freitag 15-18:30 UhrSamstag 10-14 UhrSonntag und an Feiertagen 
 geschlossenDie Gaming Zone kannst du einfach so kostenlos nutzen – ganz 
 ohne Anmeldung. Nur für die Ausleihe von Spielen\, Controllern oder Kopfh
 örern brauchst du deinen Bibliotheksausweis.Egal ob du allein kommst oder
  mit Freund*innen – bei uns sind alle willkommen!
X-ALT-DESC;FMTTYPE=text/html:
LOCATION:Bezirkszentralbibliothek Philipp Schaeffer, Brunnenstr. 181 , 101
 19 Berlin, Tel: 
END:VEVENT
END:VCALENDAR
