BEGIN:VCALENDAR
VERSION:2.0
PRODID:-//TYPO3/NONSGML Calendarize//EN
BEGIN:VEVENT
UID:calendarize-gemeinsam-lernen-20260526
CONTACT:Veranstaltungskalender für Familien in Berlin
DTSTAMP:20250626T132705Z
DTSTART:20260526T160000Z
DTEND:20260526T190000Z
SUMMARY:Gemeinsam Lernen
DESCRIPTION:Mit Gemeinsam Lernen werden die Schüler*innen aus dem Quartie
 r beim Lernen mit Schwerpunkt auf MINT-Fächer\, aber auch in Bezug auf Sp
 rach- und Leseförderung sowie Prüfungsvorbereitung von pädagogischen Ho
 norarkräften unterstützt:\n\nMontag - Donnerstag: 16 - 19 Uhr\nFreitag: 
 14 - 17 Uhr
X-ALT-DESC;FMTTYPE=text/html:
LOCATION:Mittelpunktbibliothek Adalbertstraße Wilhelm-Liebknecht-/Namik-K
 emal-Bibliothek, Adalbertstr. 2 , 10999 Berlin, Tel: 
END:VEVENT
END:VCALENDAR
