BEGIN:VCALENDAR
VERSION:2.0
PRODID:-//TYPO3/NONSGML Calendarize//EN
BEGIN:VEVENT
UID:calendarize-hiphop-20260601-36
CONTACT:JUP
DTSTAMP:20250918T111502Z
DTSTART:20260601T160000Z
DTEND:20260601T171500Z
SUMMARY:Kreativer Kindertanz
DESCRIPTION:Beim Kreativen Kindertanz entdeckst du spielerisch deine Freud
 e an Bewegung und Improvisation. Elemente des Zeitgenössischen Tanzes fö
 rdern deine Kreativität und stärken das Gruppengefühl. Eigene Tanz- ode
 r Sporterfahrungen dürfen einfließen. Für Jungs und Mädchen\, keine Vo
 rkenntnisse nötig. Wir tanzen barfuß oder mit Stoppersocken.Mo von 16:00
  – 17:15 Uhr | 8 – 10 Jahre alt*Das Angebot findet an Feiertagen und w
 ährend der Schulferien nicht statt
X-ALT-DESC;FMTTYPE=text/html:
LOCATION:Weinmeisterhaus - Jugendkulturzentrum Mitte, Weinmeisterstr. 15 ,
  10178 Berlin, Tel: 030 270044 971
END:VEVENT
END:VCALENDAR
