BEGIN:VCALENDAR
VERSION:2.0
PRODID:-//TYPO3/NONSGML Calendarize//EN
BEGIN:VEVENT
UID:calendarize-hochseil-workshop-fuer-alle-level-20260614
CONTACT:JUP
DTSTAMP:20250918T111502Z
DTSTART:20260614T143000Z
DTEND:20260614T160000Z
SUMMARY:Hochseil-Workshop für alle Level
DESCRIPTION:In diesem 1\,5-stündigen Training lernst du gemeinsam mit and
 eren Anfänger:innen die Grundlagen des Seillaufens und balancierst auf 0\
 ,5 bis 2 Metern Höhe. In einer kleinen Gruppe üben wir gemeinsam und im 
 individuellen Tempo.Die Anfänger:innen-Workshops sind genau das Richtige\
 , wenn du anfängst und zum allerersten Mal auf dem Seil laufen möchtest.
  Hier lernst du in einer kleinen Gruppe unter Gleichgesinnten. Wir beginne
 n mit Gleichgewichts- und Laufübungen auf dem Boden und mit dem richtigen
  Bewegen der 6 Meter langen Balancierstange.In eigener Geschwindigkeit erk
 undest du höhere Seile. Unsere Trainer:innen begleiten dich zu jeder Zeit
  bei deinen ersten Schritten auf den Drahtseilen und Slacklines.Für unser
 e Workshops brauchst du keine Vorerfahrung. Da die Balancierstange ein Gew
 icht von 5-7 kg hat\, sind unsere Workshops für alle Menschen ab 13 Jahre
 n geeignet. Nach oben hin gibt es keine Altersbegrenzung.Du wirst sehen\, 
 dass sich das Hochseillaufen mit ein wenig Konzentration und Übung überr
 aschend einfach erlernen lässt.  Wenn du aufrecht laufen und die Balancie
 rstange halten kannst\, bringst du die wichtigsten Voraussetzungen mit! Da
 s Balancieren hilft\, Ängste zu kontrollieren\, Grenzen auszuloten und st
 ärkt das Selbstvertrauen. Und vor allem: Es macht glücklich. Komm vorbei
  und probiere es selbst aus!For all English speakers: our trainers speak f
 luent English\, so please join our workshops!Auch bei regnerischem Wetter 
 findet das Training statt! Bitte bring dir dafür Regenkleidung mit. Wenn 
 wir gar nicht balancieren können\, sagen wir den Termin über eine Benach
 richtigung an die E-Mail-Adresse ab\, die du bei der Anmeldung angegeben h
 ast.Du hast noch Fragen? Schau dir die Antworten auf die häufigsten Frage
 n in unseren FAQs an oder nimm Kontakt zu uns auf.
X-ALT-DESC;FMTTYPE=text/html:
LOCATION:Coraggio Hochseilarena,  ,  Berlin, Tel: 
END:VEVENT
END:VCALENDAR
