BEGIN:VCALENDAR
VERSION:2.0
PRODID:-//TYPO3/NONSGML Calendarize//EN
BEGIN:VEVENT
UID:calendarize-holzworkshop-2-20530811
CONTACT:JUP
DTSTAMP:20250626T125301Z
DTSTART:20530811T130000Z
DTEND:20530822T170000Z
SUMMARY:Holzworkshop
DESCRIPTION:Sommerferien-Holzworkshop11. bis 22. AugustMontag bis Freitag 
 14:00 gleitende Ankunft und Absprachen14:30 Gemeinsamer Aufbau15:00 Schnit
 zen und Werken mit Holz / gemeinsame Pausen mit kleinen Snacks17:30 Abschl
 ussrunde18:00 AbbauKostenloses Angebot für Kinder im Grundschulalter (+/-
 )Individuelle Anleitung bei den handwerklichen ArbeitenKeine durchgehende 
 Beaufsichtigung - Kinder verbringen Pausen alleine auf dem öffentlichen S
 pielplatzAm letzten Freitag findet von 15:00 bis 18:00 Uhr eine Abschlussf
 eier mit Präsentationen statt 
X-ALT-DESC;FMTTYPE=text/html:
LOCATION:Stadtschloss Moabit, Rostocker Str. 32 , 10553 Berlin, Tel: 
END:VEVENT
END:VCALENDAR
