BEGIN:VCALENDAR
VERSION:2.0
PRODID:-//TYPO3/NONSGML Calendarize//EN
BEGIN:VEVENT
UID:calendarize-improvisationstheater-20260624-1
CONTACT:JUP
DTSTAMP:20250918T111502Z
DTSTART:20260624T170000Z
DTEND:20260624T190000Z
SUMMARY:Improvisationstheater
DESCRIPTION:Durch kreative Übungen und spielerische Szenen lernst du\, im
  Moment zu reagieren\, deinen Ausdruck zu stärken und gemeinsam mit ander
 en überraschende Geschichten zu erschaffen. Vorkenntnisse sind nicht nöt
 ig – nur Neugier und Lust auf Neues!Mi von 17:00 – 19:00 Uhr | 14 bis 
 27 JahreEG – Saal (Raum 002+003)*Unsere Angebote finden an Feiertagen un
 d während der Schulferien nicht statt.
X-ALT-DESC;FMTTYPE=text/html:
LOCATION:Weinmeisterhaus - Jugendkulturzentrum Mitte, Weinmeisterstr. 15 ,
  10178 Berlin, Tel: 030 270044 971
END:VEVENT
END:VCALENDAR
