BEGIN:VCALENDAR
VERSION:2.0
PRODID:-//TYPO3/NONSGML Calendarize//EN
BEGIN:VEVENT
UID:calendarize-jugend-hochseil-gruppe-20260610
CONTACT:JUP
DTSTAMP:20250626T125301Z
DTSTART:20260610T173000Z
DTEND:20260610T190000Z
SUMMARY:Jugend-Hochseil-Gruppe
DESCRIPTION:Einmal in der Woche zusammen mit Freund:innen und anderen Juge
 ndlichen trainieren und Spaß haben!Kannst du auf einem Bein stehen? – D
 ann kannst du lernen\, auf einem Seil zu balancieren! Wir zeigen dir jeden
  Schritt\, beginnend am Boden mit den Grundtechniken und begleiten dich in
  deinem Tempo dahin\, über ein 6m langes Seil zu gehen. Wir haben die Exp
 ertise und mehr als 10 Jahre Erfahrung\, um dir das Seillaufen in einem si
 cheren Rahmen und für jede*n machbar beizubringen.Die Jugendgruppe trifft
  sich jeden Mittwochvon 17.30 bis 19.00 Uhr auf der Hochseilarena. Das Pro
 jekt startet ab dem 31.07.2024 und geht bis zum 02.10.2024. In dieser Zeit
  lernt ihr das Seilaufen\, um auf dem 6-Meter-Seil zu balancieren – natü
 rlich mit Sicherungsseil. Unsere Trainer:innen begleiten euch auf eurem We
 g nach oben.Die Teilnahme an der Jugendgruppe ist kostenlos.Warum sollte i
 ch Seillaufen lernen? Wir finden\, dass Seillaufen eine super Kombination 
 bietet aus körperlicher Aktivität\, emotionaler Challenge und Potential 
 für persönliches Wachstum und der Möglichkeit\, mit anderen Menschen au
 thentisch in Kontakt und Austausch zu kommen. Wir wünschen uns mehr davon
  in unserer Gesellschaft und haben darum die Hochseilarena ins Leben geruf
 en.Für unsere Workshops brauchst du keine Vorerfahrung\, sondern nur Lust
  auf Bewegung und darauf\, Neues auszuprobieren. Wenn du noch unsicher bis
 t\, ob es das Richtige für dich ist\, komm einfach mal zum Ausprobieren z
 u den ersten Trainings.Du hast noch Fragen? Schau dir die Antworten auf di
 e häufigsten Fragen in unseren FAQs an oder nimm Kontakt zu uns auf.Termi
 ne & Anmeldung31.07.2024 17.30 – 19.00 Uhr 07.08.2024 17.30 – 19.00 Uh
 r 14.08.2024 17.30 – 19.00 Uhr 21.08.2024 17.30 – 19.00 Uhr 28.08.2024
  17.30 – 19.00 Uhr 04.09.2024 17.30 – 19.00 Uhr 11.09.2024 17.30 – 1
 9.00 Uhr 18.09.2024 17.30 – 19.00 Uhr 25.09.2024 17.30 – 19.00 Uhr 02.
 10.2024 17.30 – 19.00 Uhr
X-ALT-DESC;FMTTYPE=text/html:
LOCATION:Coraggio Hochseilarena,  ,  Berlin, Tel: 
END:VEVENT
END:VCALENDAR
