BEGIN:VCALENDAR
VERSION:2.0
PRODID:-//TYPO3/NONSGML Calendarize//EN
BEGIN:VEVENT
UID:calendarize-juhu-treff-20260515
CONTACT:JUP
DTSTAMP:20250626T125301Z
DTSTART:20260515T170000Z
DTEND:20260515T190000Z
SUMMARY:JuHu Treff
DESCRIPTION:Beim JuHu Treff dreht sich alles um eure Interessen! Hier habt
  ihr die Möglichkeit\, das zu tun\, worauf ihr gerade Lust habt. Trefft e
 ure Freund*innen\, spielt eine Runde Kicker\, probiert euch beim Werwolf a
 us\, plant eure eigenen Reisen oder erlebt Jugendverbandsarbeit in Aktion.
 \n\nFalls ihr irgendwelche Hilfe benötigt\, sei es bei der Anreise\, weil
  sie nicht so einfach ist\, oder wenn ihr aufgrund einer Beeinträchtigung
  spezielle Hilfsmittel braucht\, meldet euch bei uns. Wir schauen gerne\, 
 wie wir euch unterstützen können\, damit ihr am JuHu Treff teilnehmen kö
 nnt. Schaut einfach mal bei uns vorbei!\n\nKommt vorbei und lernt andere J
 uHus und Jugendliche kennen. Bei uns ist jeder Mensch herzlich willkommen.
 \n\nFür alle ab 14 Jahre
X-ALT-DESC;FMTTYPE=text/html:
LOCATION:Juhu Space, Naugarder Strace 5 , 10409 Berlin, Tel: 030 44 27 216
END:VEVENT
END:VCALENDAR
