BEGIN:VCALENDAR
VERSION:2.0
PRODID:-//TYPO3/NONSGML Calendarize//EN
BEGIN:VEVENT
UID:calendarize-kerzenwerkstatt-20260615
CONTACT:JUP
DTSTAMP:20250918T111502Z
DTSTART:20260615T153000Z
DTEND:20260615T190000Z
SUMMARY:Kerzenwerkstatt
DESCRIPTION:In der upcycling Kerzenwerkstatt kannst du deine eigenen Kerze
 n ziehen\, tauchen und verzieren. Du entscheidest die Größe deiner Kerze
  und kannst sie dann mit deinen eigenen Motiven\, Düften\, Verzierungen u
 nd Lieblingsfarben gestalten. Wenn du dein eigenes Gefäß mitbringst\, ka
 nnst du auch eine Kerze pro Workshop selber gießen. Bring auch gerne Kerz
 enreste mit.Nur mit Anmeldung über Eventbrite: https://www.eventbrite.de/
 e/921379449737?aff=oddtdtcreator*Die Werkstatt findet an Feiertagen und wä
 hrend Schulferien nicht statt-----In the Upcycling Candle Workshop\, you c
 an make your own candles by dipping\, pulling\, and decorating them. You d
 ecide the size of your candle and can then personalize it with your own de
 signs\, scents\, decorations\, and favorite colors. If you bring your own 
 container\, you can also pour a candle yourself during each workshop. Feel
  free to bring leftover candles as well.Eventbrite-Ticket required: https:
 //www.eventbrite.de/e/921379449737?aff=oddtdtcreator.*The workshop does no
 t take place on public holidays or during school vacations. 
X-ALT-DESC;FMTTYPE=text/html:
LOCATION:Weinmeisterhaus - Jugendkulturzentrum Mitte, Weinmeisterstr. 15 ,
  10178 Berlin, Tel: 030 270044 971
END:VEVENT
END:VCALENDAR
