BEGIN:VCALENDAR
VERSION:2.0
PRODID:-//TYPO3/NONSGML Calendarize//EN
BEGIN:VEVENT
UID:calendarize-klangwelten-schulprojekttage-2026-20260430-2
CONTACT:
DTSTAMP:20251105T130551Z
DTSTART:20260430T090000Z
DTEND:20260430T120000Z
SUMMARY:klangwelten-Schulprojekttage 2026
DESCRIPTION:Schulklassen der Klassenstufen 1 bis 6 besuchen im Klassenverb
 and an einem Vormittag das Mitmach-Konzert „Ach\, dachte Bach“ und ein
 en von 14 spannenden Musik-Workshops.
X-ALT-DESC;FMTTYPE=text/html:
LOCATION:Landesmusikakademie Berlin, Str. zum FEZ 2 , 12459 Berlin, Tel: 0
 30 53071203
END:VEVENT
END:VCALENDAR
