BEGIN:VCALENDAR
VERSION:2.0
PRODID:-//TYPO3/NONSGML Calendarize//EN
BEGIN:VEVENT
UID:calendarize-kleidertauschparty-1-20260515
CONTACT:JUP
DTSTAMP:20240103T235501Z
DTSTART:20260515T160000Z
DTEND:20260515T190000Z
SUMMARY:Kleidertauschparty
DESCRIPTION:An jedem dritten Freitag im Monat feiern wir Kleidertauschpart
 y in der Schiller-Bibliothek!\n\nBringt Kleidung mit\, tauscht sie gegen n
 eue Lieblingsstücke und lernt\, wie ihr Kleidung upcyclen könnt. Unsere 
 Textilpresse\, Stickmaschine und Strasspistole stehen für euch bereit! \n
 \nRegeln: \n\n\n	Bitte bringe höchstens 10 Kleidungsstücke mit.\n	Deine 
 Kleidung kannst du bei unserem Team abgeben.\n	Wir nehmen nur gewaschene u
 nd unversehrte Kleidung an.\n	Schuhe müssen sauber und in gutem Zustand s
 ein.\n	Wir nehmen nur Kleidung und Accessoires an\, keine Dekoration/Spiel
 zeug/Kosmetik o.ä.\n
X-ALT-DESC;FMTTYPE=text/html:
LOCATION:Schiller-Bibliothek, Müllerstr. 149 , 13353 Berlin, Tel: 0309018
 45635
END:VEVENT
END:VCALENDAR
