BEGIN:VCALENDAR
VERSION:2.0
PRODID:-//TYPO3/NONSGML Calendarize//EN
BEGIN:VEVENT
UID:calendarize-klima-rallye-wimpel-mit-deiner-klimabotschaft-20260528
CONTACT:JUP
DTSTAMP:20250626T125301Z
DTSTART:20260528T150000Z
DTEND:20260528T180000Z
SUMMARY:Klima-Rallye & Wimpel mit deiner Klimabotschaft!
DESCRIPTION:Klima-Rallye\n\nNehmt an zehn Stationen rund um den Zirkuswage
 n das Klima unter die Lupe. Wie funktioniert der Treibhauseffekt\, woher k
 ommen die Klimagase und wie kommt das Klima wieder in Balance? Du experime
 ntierst\, knackst Rätsel und findest die Zahlencodes heraus\, die dich we
 iterbringen! Dabei bewegst du dich über den Zirkusplatz\, platzierst Teil
 e auf der Klima-Waage\, spielst Klima-Flipper und vieles mehr! Am Ende kan
 nst du den Rallye-Plan als selbstgestaltetes Poster mit nach Hause nehmen.
 \n\nKlimazirkus-Wimpel mit kreativen Klimabotschaften\n\nGestalte deinen e
 igenen Klimazirkus-Wimpel mit deiner persönlichen Klimabotschaft! Was tre
 ibt dich an\, etwas gegen den Klimawandel zu tun? Was wünschst du dir fü
 r die Zukunft? Welche Hoffnung möchtest du anderen weitergeben? Was verbi
 ndest du mit Klimawandel – und was mit „Klima-Zirkus“?\n\nWährend d
 u dich mit diesen Fragen beschäftigst\, werden wir zusammen kreativ. Fert
 ige deinen eigenen Stempel an und drucke anschließend einen Wimpel mit de
 iner Klimabotschaft für unseren Klimazirkus-Wagen. Aus alten\, recycelten
  Stoffen entsteht eine Wimpelkette mit euren Botschaften und Wünschen.\n\
 nUnd wenn du jetzt noch nicht genug hast: gestalte eine persönliche Stemp
 el-Postkarte für eine Freund*in und wirf sie direkt beim Klimazirkus in d
 en Briefkasten!\n\nKostenlos und ohne Anmeldung! Wir haben auch eine Schen
 kbox\, gib gerne etwas dazu und nimm etwas mit!\n\nWetterhinweis: Bei anda
 uerndem Regen oder Sturm fällt das Mitmachangebot aus.\n\n \n\nWagen gesc
 hlossen:\n\nVon 12.08 bis 18.08 ist der Klimazirkus-Wagen geschlossen!
X-ALT-DESC;FMTTYPE=text/html:
LOCATION:Klimazirkus, Columbiadamm 84 , 10965 Berlin, Tel: (030) 308798-32
END:VEVENT
END:VCALENDAR
