BEGIN:VCALENDAR
VERSION:2.0
PRODID:-//TYPO3/NONSGML Calendarize//EN
BEGIN:VEVENT
UID:calendarize-leselust-20260526
CONTACT:Veranstaltungskalender für Familien in Berlin
DTSTAMP:20250626T132705Z
DTSTART:20260526T160000Z
DTEND:20260526T170000Z
SUMMARY:LeseLust
DESCRIPTION:In Kooperation mit der Bürgerstiftung Berlin bieten unsere Le
 sepat*innen tolle Geschichten für Kinder von 4 bis 12 Jahren. Das Angebot
  ist kostenlos\, eine Anmeldung und regelmäßige Teilnahme sind nicht not
 wendig!\n\nJeden Dienstag von 16-17 Uhr – auch in den Ferien
X-ALT-DESC;FMTTYPE=text/html:
LOCATION:Mittelpunktbibliothek Adalbertstraße Wilhelm-Liebknecht-/Namik-K
 emal-Bibliothek, Adalbertstr. 2 , 10999 Berlin, Tel: 
END:VEVENT
END:VCALENDAR
