BEGIN:VCALENDAR
VERSION:2.0
PRODID:-//TYPO3/NONSGML Calendarize//EN
BEGIN:VEVENT
UID:calendarize-lesetraining-in-der-jurte-1-20260611
CONTACT:JUP
DTSTAMP:20250918T111502Z
DTSTART:20260611T170000Z
DTEND:20260611T180000Z
SUMMARY:Lesetraining
DESCRIPTION:Eine Viertelstunde lesen und einen Stempel bekommen! Unsere Le
 sepatinnen üben mit dir im 1:1-Format.Du sollst für die Schule einen Tex
 t lesen üben? Du lernst gerade lesen und möchtest jemanden laut vorlesen
 ? Du fühlst dich unsicher\, wenn du in der Schule etwas vorlesen sollst u
 nd brauchst Unterstützung?Dann komm donnerstags zum Lesetraining in der J
 urte. Hier kannst du eine Viertelstunde in sicherer Umgebung bei unseren L
 esetrainerinnen Friederike und Josephine Lesen üben. Für jedes Training 
 kannst du Punkte sammeln und erhältst beim fünften Mal eine Überraschun
 g.Für Kinder ab 6 Jahre. Buchbar als Viertelstundeneinheit.Anmeldung erfo
 rderlich über jubi@zlb.de. Die Möglichkeit einen Termin zu buchen\, ende
 t jeweils an dem Mittwochabend um 19 Uhr vor dem Lesetrainingstag (Donners
 tag).Jeden Donnerstag von 17.00 bis 18.00 Uhr.
X-ALT-DESC;FMTTYPE=text/html:
LOCATION:Amerika-Gedenkbibliothek, Blücherplatz 1 , 10961 Berlin, Tel: 03
 0 90226401
END:VEVENT
END:VCALENDAR
