BEGIN:VCALENDAR
VERSION:2.0
PRODID:-//TYPO3/NONSGML Calendarize//EN
BEGIN:VEVENT
UID:calendarize-lesetraining-in-der-jurte-20260618-1
CONTACT:JUP
DTSTAMP:20250918T111502Z
DTSTART:20260618T170000Z
DTEND:20260618T180000Z
SUMMARY:Lesetraining in der Jurte!
DESCRIPTION:Eine Viertelstunde lesen üben und einen Stempel bekommen! Uns
 ere Lesepat*innen üben mit dir im 1:1-Format.\n\nFür Kinder ab 6 Jahre. 
 Buchbar als Viertelstundeneinheit\, Anmeldung erforderlich.
X-ALT-DESC;FMTTYPE=text/html:
LOCATION:Amerika-Gedenkbibliothek, Blücherplatz 1 , 10961 Berlin, Tel: 03
 0 90226401
END:VEVENT
END:VCALENDAR
