BEGIN:VCALENDAR
VERSION:2.0
PRODID:-//TYPO3/NONSGML Calendarize//EN
BEGIN:VEVENT
UID:calendarize-level-up-schule-durchgespielt-was-jetzt-20260615
CONTACT:JUP
DTSTAMP:20250918T111502Z
DTSTART:20260615T150000Z
DTEND:20260615T170000Z
SUMMARY:Level Up: Schule durchgespielt\, was jetzt?! |
DESCRIPTION:Unser Programm für mehr Einblick in die Welt der Berufe und f
 ür alle deine Fragen zu Perspektiven nach der Schule.So viele Möglichkei
 ten\, wie es nach der Schule weitergehen kann - und du hast die Qual der W
 ahl... da kann einem ganz schön der Kopf brummen. Wir bieten dir in unser
 em neuen Programm Unterstützung und Orientierung\, um selbstsicher deinen
  ganz eigenen Weg zu finden:Q&A-Veranstaltung: "Wie geht dein Traumjob?" m
 it Gästen aus der BerufsweltWir laden Menschen aus ganz unterschiedlichen
  Berufen ein\, die euch von ihrer Arbeit erzählen und in einem Q&A eure F
 ragen beantworten. Eine einmalige Gelegenheit\, um die verschiedenen Beruf
 e einmal aus erster Quelle näher kennenzulernen und mit gängigen Berufsk
 lischées aufzuräumen. Jeden Monat neue Gäst*innen\, kommt vorbei! Eine 
 Anmeldung ist nicht notwendig. Die nächsten Veranstaltungen findet ihr im
  Veranstaltungskalender der ZLB.Bewerbungs- und Berufscoaching für Jugend
 liche und junge ErwachseneOb Praktikum\, Ausbildung oder Studium - du sitz
 t mit vielen Fragezeichen vor deiner Bewerbung und kommst nicht weiter? Od
 er hast noch gar keine Idee\, was überhaupt zu dir passen könnte? Wir he
 lfen dir weiter! Kompetente Jugendcoaches sind vor Ort\, um dich bei deine
 n Bewerbungsunterlagen und bei Fragen zu Berufen und Perspektiven zu unter
 stützen.Immer montags von 15.00 -17.00 Uhr in der Jugendbibliothek 
X-ALT-DESC;FMTTYPE=text/html:
LOCATION:Amerika-Gedenkbibliothek, Blücherplatz 1 , 10961 Berlin, Tel: 03
 0 90226401
END:VEVENT
END:VCALENDAR
