BEGIN:VCALENDAR
VERSION:2.0
PRODID:-//TYPO3/NONSGML Calendarize//EN
BEGIN:VEVENT
UID:calendarize-linoldruck-20260602
CONTACT:JUP
DTSTAMP:20250513T060730Z
DTSTART:20260602T173000Z
DTEND:20260602T193000Z
SUMMARY:Linoldruck
DESCRIPTION:Egal ob du schonmal Linoldruck gemacht hast oder eine kleine E
 inführung brauchst. Zieh dir deine Malsachen an und komm vorbei! Hier kan
 nst du lernen\, wie es geht und tolle Drucke herstellen.Bitte meldet euch 
 vorher bei uns per Mail an: kubi17@bgff.de
X-ALT-DESC;FMTTYPE=text/html:
LOCATION:KuBi17 - Kultur und Bildung, Ahlbecker Str. 17 , 10437 Berlin, Te
 l: 0176 – 4737 6278
END:VEVENT
END:VCALENDAR
