BEGIN:VCALENDAR
VERSION:2.0
PRODID:-//TYPO3/NONSGML Calendarize//EN
BEGIN:VEVENT
UID:calendarize-malerei-werkstatt-20260426
CONTACT:JUP
DTSTAMP:20250513T060730Z
DTSTART:20260426T130000Z
DTEND:20260426T150000Z
SUMMARY:Malerei Werkstatt
DESCRIPTION:Ihr habt Lust auf Malerei? Dann kommt zu unserer MALEREIWERKST
 ATT. Ab Januar 2025\, jeden Sonntag von 13 – 15 Uhr. Hier lernt ihr vers
 chiedene Techniken kennen und könnt gemeinsam mit anderen kreativ sein. J
 eder Monat steht unter einem anderen Thema und ihr könnt einen Einblick i
 n abstrakte Malerei\, Stillleben- und Landschaftsmalerei oder die Illustra
 tion von Kinderbüchern bekommen.MIT UND OHNE KINDER?Um auch Eltern die Ch
 ance zu geben\, sich Raum für die eigene Kreativität zu nehmen\, bieten 
 wir eine Kinderbetreuung vor Ort an. Kinder ab 8 Jahren können am Worksho
 p teilnehmen.Kurssprachen: Deutsch\, Englisch und Russisch / Preis Erwachs
 ene: 25 Euro / Anmeldung bitte vorher per Mail an: Breechag@outlook.com
X-ALT-DESC;FMTTYPE=text/html:
LOCATION:KuBi17 - Kultur und Bildung, Ahlbecker Str. 17 , 10437 Berlin, Te
 l: 0176 – 4737 6278
END:VEVENT
END:VCALENDAR
