BEGIN:VCALENDAR
VERSION:2.0
PRODID:-//TYPO3/NONSGML Calendarize//EN
BEGIN:VEVENT
UID:calendarize-mobiles-umweltbuero-lichtenberg-20260512
CONTACT:Veranstaltungskalender für Familien in Berlin
DTSTAMP:20250626T132705Z
DTSTART:20260512T150000Z
DTEND:20260512T170000Z
SUMMARY:Mobiles Umweltbüro Lichtenberg
DESCRIPTION:Mit dem Lastenrad sind wir an jedem zweiten Dienstag im Monat 
 von 15 bis 17 Uhr an verschiedenen Orten des Bezirkes unterwegs. Wir beant
 worten gern Fragen\, die Umwelt-\, Nachhaltigkeit- und Naturschutzthemen b
 etreffen. Außerdem haben wir Wanderkarten\, Flyer und Broschüren dabei u
 nd informieren Sie auch über unsere vielfältigen Veranstaltungen. Wir fr
 euen uns auf Ihren Besuch!
X-ALT-DESC;FMTTYPE=text/html:
LOCATION:Heinrich-Dathe-Platz,  , 10319 Berlin, Tel: 
END:VEVENT
END:VCALENDAR
