BEGIN:VCALENDAR
VERSION:2.0
PRODID:-//TYPO3/NONSGML Calendarize//EN
BEGIN:VEVENT
UID:calendarize-montags-monsterbastelei-20260525-2
CONTACT:JUP
DTSTAMP:20250918T111502Z
DTSTART:20260525T140000Z
DTEND:20260629T140000Z
SUMMARY:Montags-Monsterbastelei
DESCRIPTION:Wir basteln und malen mit Euch! Aus alltäglichen Dingen und a
 llerhand Bastelmaterial entstehen viele kleine und große\, lustige und ve
 rrückte Monster\, die in der Bibliothek bleiben und dort ihren Sommerurla
 ub verbringen. Nach den Sommerferien können sie von Groß und Klein adopt
 iert werden.\n\n\nohne Anmeldung\n 
X-ALT-DESC;FMTTYPE=text/html:
LOCATION:Anna-Seghers-Bibliothek im Linden-Center, Prerower Platz 2 , 1305
 1 Berlin, Tel: 3092796410
END:VEVENT
END:VCALENDAR
