BEGIN:VCALENDAR
VERSION:2.0
PRODID:-//TYPO3/NONSGML Calendarize//EN
BEGIN:VEVENT
UID:calendarize-monument-of-oblivion-river-of-lethe-20260426
CONTACT:Veranstaltungskalender für Familien in Berlin
DTSTAMP:20250626T132705Z
DTSTART:20260426T110000Z
DTEND:20260426T190000Z
SUMMARY:Monument of Oblivion: River of Lethe
DESCRIPTION:Für das Programmjahr 2025/26 wurde die Künstlerin Neda Saeed
 i für die Realisierung einer ortsspezifischen Arbeit durch eine Jury ausg
 ewählt. In ihrer für die Klosterruine geschaffenen Soundinstallation bes
 chäftigt sich Neda Saeedi mit der Frage\, wie an historischen Orten erinn
 ert wird.\n\n„Wem wird gedacht\, wer wird ausgeschlossen und wie gehen w
 ir mit gewaltvoller Geschichte oder fehlenden Denkmälern um? Setzen wir u
 ns mit der Vergangenheit so auseinander\, dass wir die Zukunft gestalten k
 önnen?“ Die Künstlerin Neda Saeedi beschäftigt sich in ihrer ortsspez
 ifischen Soundinstallation mit der Frage\, wie an historischen Orten erinn
 ert wird. Sie besteht aus Baustellenelementen\, die einen nicht enden woll
 enden Kreislauf aus Konstruktion und Dekonstruktion bilden. In einer Zeit 
 intensiver Debatten über historische Aufarbeitung erfährt auch der Auf- 
 und Abbau von Denkmälern große Beachtung. Monument of Oblivion: River of
  Lethe untersucht diese Spannungen an einem Ort\, der als Kirchenruine sow
 ohl Beständigkeit als auch Abwesenheit ausstrahlt und ermöglicht eine ei
 ndringliche Erfahrung von Zusammenbruch und Neubeginn.\n\nEin Begleitprogr
 amm aus Filmabenden\, Sound Performances und Lesungen tritt in einen küns
 tlerischen Dialog mit der ortsspezifischen Arbeit. Das diesjährige Vermit
 tlungsprogramm lädt das Publikum ein\, die unterschiedlichen Facetten des
  Ortes zu erkunden – von der tief verwurzelten Geschichte über die arch
 itektonischen Besonderheiten bis hin zur aktuellen und zukünftigen Bedeut
 ung im städtischen Kontext.
X-ALT-DESC;FMTTYPE=text/html:
LOCATION:Klosterruine, Klosterstr. 73a , 10179 Berlin, Tel: 
END:VEVENT
END:VCALENDAR
