BEGIN:VCALENDAR
VERSION:2.0
PRODID:-//TYPO3/NONSGML Calendarize//EN
BEGIN:VEVENT
UID:calendarize-musicboot-musikkurs-fuer-kinder-ab-7-jahre-20260430
CONTACT:JUP
DTSTAMP:20250626T125301Z
DTSTART:20260430T163000Z
DTEND:20260430T173000Z
SUMMARY:'musicBOOT' – Musikkurs für Kinder ab 7 Jahre
DESCRIPTION:Im musicBOOT erfinden wir Lieder\, spielen mit Rhythmen und le
 rnen nebenbei auch etwas Musiktheorie – auch für Spiel und Quatsch gibt
 ´s einen Platz!\n\nVorhandene Instrumente können mitgebracht werden.\n\n
  \n\nDer Kurs findet jeden Donnerstag um 16:30 Uhr im Stadtteilzentrum KRE
 ATIVHAUS\, Fischerinsel 3\, 10179 Berlin statt.\n\nIhr könnt ohne Anmeldu
 ng kommen\, Pausenzeiten bitte beim Kursleiter erfragen.\n\nDer Kurs ist k
 ostenlos.\n\n \n\nBei Fragen meldet euch gerne beim Team des Mehrgeneratio
 nenhaus KREATIVHAUS: mgh-kreativhaus@fippev.de\, 0178-698 476 1\n\nDas Ang
 ebot findet im Rahmen von „Netzwerk der Wärme“ statt\, gefördert dur
 ch die Senatsverwaltung für Integration\, Arbeit und Soziales.
X-ALT-DESC;FMTTYPE=text/html:
LOCATION:KREATIVHAUS, Fischerinsel 3 , 10179 Berlin, Tel: 030 23 80 91 3
END:VEVENT
END:VCALENDAR
