BEGIN:VCALENDAR
VERSION:2.0
PRODID:-//TYPO3/NONSGML Calendarize//EN
BEGIN:VEVENT
UID:calendarize-naehcafe-1-20260502
CONTACT:Veranstaltungskalender für Familien in Berlin
DTSTAMP:20250626T132705Z
DTSTART:20260502T103000Z
DTEND:20260502T143000Z
SUMMARY:Nähcafé
DESCRIPTION:An jedem 1. und 3. Samstag im Monat gibt es im WerkRaum der Be
 zirkszentralbibliothek Pablo Neruda ein offenes Nähcafé. An mehreren Nä
 hmaschinen könnt ihr unter Anleitung erste Erfahrungen im Maschinen-Nähe
 n machen\, oder eigene Projekte selbstständig verwirklichen – egal ob H
 ose kürzen\, Vorhang nähen oder Plüschtiere herstellen. Bringt eure Sch
 nittmuster und Stoffe mit und die Profis vom Kostümkollektiv e.V. stehen 
 euch beratend zur Seite. Und wenn ihr noch keine konkreten Ideen habt\, ko
 mmt einfach vorbei und lasst euch inspirieren.\nKommt rum – wir freuen u
 ns auf euch!\n\nWo? Im WerkRaum der Bezirkszentralbibliothek Pablo Neruda\
 nWann? Jeden 1. und 3. Samstag im Monat\, 10:30 – 14:30 Uhr\n\n- Eintrit
 t frei\n- ohne Voranmeldung\n- ohne Vorkenntnisse
X-ALT-DESC;FMTTYPE=text/html:
LOCATION:Pablo-Neruda-Bibliothek, Frankfurter Allee 14 A , 10247 Berlin, T
 el: 
END:VEVENT
END:VCALENDAR
