BEGIN:VCALENDAR
VERSION:2.0
PRODID:-//TYPO3/NONSGML Calendarize//EN
BEGIN:VEVENT
UID:calendarize-naehwerkstatt-20260509
CONTACT:JUP
DTSTAMP:20240717T192427Z
DTSTART:20260509T100000Z
DTEND:20260509T140000Z
SUMMARY:Nähwerkstatt
DESCRIPTION:Die Hose ist zu lang\, das T-Shirt hat ein Loch und der Reißv
 erschluss klemmt?\n\nDann kommt zu unserer Nähwerkstatt und lernt\, wie i
 hr eure Kleidung selbst reparieren könnt! Mit unserer Stickmaschine könn
 t ihr außerdem eure Lieblingsteile mit hübschen Motiven und Mustern vers
 chönern. Schnappt euch Stoffreste\, Knöpfe und Reißverschlüsse und bri
 ngt alles mit!\n\nDie Nähwerkstatt findet alle 2 Wochen statt.
X-ALT-DESC;FMTTYPE=text/html:
LOCATION:Schiller-Bibliothek, Müllerstr. 149 , 13353 Berlin, Tel: 0309018
 45635
END:VEVENT
END:VCALENDAR
