BEGIN:VCALENDAR
VERSION:2.0
PRODID:-//TYPO3/NONSGML Calendarize//EN
BEGIN:VEVENT
UID:calendarize-offener-druckworkshop-1-20260614
CONTACT:JUP
DTSTAMP:20250918T111502Z
DTSTART:20260614T140000Z
DTEND:20260614T170000Z
SUMMARY:Offener Druckworkshop
DESCRIPTION:Jeden Sonntag: kostenfreie Druckworkshops für Kinder und Erwa
 chsene\n\nWollt Ihr Bilder drucken wie ein echter Künstler? Kurt Mühlenh
 aupt hat Kunst für die kleinen Leute gemacht. In unserem Museum könnt Ih
 r mit viel Farbe\, Kreativität und Spaß selbst Kunst erschaffen. Wir dru
 cken mit einfachen Materialien\, Ihr braucht nur etwas Zeit und den Mut\, 
 einfach loszulegen.
X-ALT-DESC;FMTTYPE=text/html:
LOCATION:Kurt Mühlenhaupt Museum, Fidicinstr. 40 , 10965 Berlin, Tel: +49
 03061627505
END:VEVENT
END:VCALENDAR
