BEGIN:VCALENDAR
VERSION:2.0
PRODID:-//TYPO3/NONSGML Calendarize//EN
BEGIN:VEVENT
UID:calendarize-offener-werkraum-20260529
CONTACT:Veranstaltungskalender für Familien in Berlin
DTSTAMP:20250626T132705Z
DTSTART:20260529T143000Z
DTEND:20260529T163000Z
SUMMARY:Offener WerkRaum
DESCRIPTION:In den offenen WerkRaum-Stunden am Freitag 14:30 bis 16:30 Uhr
  sind Kinder und Jugendliche eingeladen verschiedene Roboter zu programmie
 ren\, sich im Löten ausprobieren oder Musik auf Obst zu spielen. Das Team
  von Horizontereignis hat immer neue Ideen und Angebote – Mehrfach-Besuc
 he lohnen sich!\nAlle ab 12 Jahren können auch unsere Virtual-Reality-Bri
 llen ausprobieren. Wer möchte nicht einmal durch die ISS schweben\, zwisc
 hen Dinosauriern spazieren gehen oder für ein paar Minuten in die Karibik
  reisen? Kommt einfach vorbei und probiert es aus – natürlich helfen wi
 r beim Einstieg. Anmeldungen sind nicht notwendig.\n\nFreitags 14:30 – 1
 6:30 Uhr\nWerkRaum im Erdgeschoss der Bezirkszentralbibliothek Pablo Nerud
 a
X-ALT-DESC;FMTTYPE=text/html:
LOCATION:Pablo-Neruda-Bibliothek, Frankfurter Allee 14 A , 10247 Berlin, T
 el: 
END:VEVENT
END:VCALENDAR
