BEGIN:VCALENDAR
VERSION:2.0
PRODID:-//TYPO3/NONSGML Calendarize//EN
BEGIN:VEVENT
UID:calendarize-offenes-ensemble-20260511
CONTACT:JUP
DTSTAMP:20250626T125301Z
DTSTART:20260511T173000Z
DTEND:20260511T183000Z
SUMMARY:Offenes Ensemble
DESCRIPTION:In unserer offenen Ensemble-Stunde hast du die Möglichkeit\, 
 gemeinsam mit anderen Musikbegeisterten zu musizieren und dein Instrument 
 in einem Ensemble zu erleben. Ob Violine\, Querflöte\, Gitarre oder Klavi
 er – hier treffen sich Musiker*innen verschiedener Niveaus\, um zusammen
 zuspielen\, sich auszuprobieren und voneinander zu lernen. Ohne Druck und 
 in entspannter Atmosphäre könnt ihr gemeinsam Stücke einstudieren\, imp
 rovisieren oder einfach Spaß am gemeinsamen Musizieren haben. Du brauchst
  keine festen Verpflichtungen – komm vorbei und entdecke die Freude am Z
 usammenspiel im Ensemble!\n\nMo 17:30 – 18:30 Uhr – Violine/Viola\nMi 
 17:30 – 18:30 Uhr – Querflöte\nDo 17:30 – 18:30 Uhr – Gitarre\nFr
  17:30 – 18:30 Uhr – Klavier\n\n 
X-ALT-DESC;FMTTYPE=text/html:
LOCATION:Weinmeisterhaus - Jugendkulturzentrum Mitte, Weinmeisterstr. 15 ,
  10178 Berlin, Tel: 030 270044 971
END:VEVENT
END:VCALENDAR
