BEGIN:VCALENDAR
VERSION:2.0
PRODID:-//TYPO3/NONSGML Calendarize//EN
BEGIN:VEVENT
UID:calendarize-papierwerkstatt-20260515
CONTACT:JUP
DTSTAMP:20250626T125301Z
DTSTART:20260515T153000Z
DTEND:20260515T180000Z
SUMMARY:Papierwerkstatt
DESCRIPTION:In der offenen Papierwerkstatt entsteht eine kreative und kün
 stlerische Auseinandersetzung mit dem Material Papier und seinen Eigenscha
 ften. Wir erforschen die Grenzen von Papier und entdecken die Möglichkeit
 en der Be – und Verarbeitung verschiedener Papiersorten. Wir arbeiten mi
 t unterschiedlichen Papierarten aus unserem Fundus\, aber auch mit gefunde
 nem und weg geworfenem Material. Finde heraus\, wie aus Papier und Pappe f
 antasievolle Objekte und Collagen entstehen können und bring deine Ideen 
 aufs Papier.Fr 15:30 – 18:00 Uhr | 8 bis 27 Jahre1.OG – Kunstatelier (
 Raum 105) *Die Werkstatt findet nicht an Feiertagen und während der Schul
 ferien statt.
X-ALT-DESC;FMTTYPE=text/html:
LOCATION:Weinmeisterhaus - Jugendkulturzentrum Mitte, Weinmeisterstr. 15 ,
  10178 Berlin, Tel: 030 270044 971
END:VEVENT
END:VCALENDAR
