BEGIN:VCALENDAR
VERSION:2.0
PRODID:-//TYPO3/NONSGML Calendarize//EN
BEGIN:VEVENT
UID:calendarize-pippi-langstrumpf-3-20260614
CONTACT:JUP
DTSTAMP:20250513T060730Z
DTSTART:20260614T163000Z
DTEND:20260614T180000Z
SUMMARY:Pippi Langstrumpf
DESCRIPTION:21. Sommer-Familientheater-Reihe | Freilichtbühne Spandauca. 
 90 Minten Schausspielspaß (inkl. Pause) ab ca. 4bis 9  JahrenEs gibt wirk
 lich Gründe zu feiern: „Pippi Langstrumpf“ wird 80 Jahre (1945-2025) 
 und unsere „Sommer-Familientheater-Reihe“ (2005-2025) auf der wundersc
 hönen Freilichtbühne an der Zitadelle Spandau wird auch schon zwanzig al
 t!Daher kehrt das langersehnte Original von den Wiederentdeckern der "Pipp
 i" als Schauspiel in Berlin nach Spandau zurück.Rote Zöpfe\, Sommerspros
 sen – jeder kennt Pippi Langstrumpf\, und jeder weiß\, dass sie auf str
 enge Autoritäten und sinnlose Ordnung im Leben ganz wunderbar verzichten 
 kann. Schließlich lautet ihr Motto: „Ich mach‘ mir die Welt\, wie sie
  mir gefällt!“ Deshalb werden auch so gegensätzliche Personen wie land
 streichende Diebe und rechtschaffende Polizisten mühelos in die Schranken
  gewiesen\, selbst die sittenstrenge Frau Prysselius\, die Pippi partout n
 icht alleine wohnen lassen will! Gemeinsam mit Thomas und Annika zeigt Pip
 pi mit viel Humor und einer Prise Chaos\, dass Freundschaft\, Freiheit und
  Spaß im Leben das Wichtigste sind. Als schließlich eine Seeräuberseere
 ise ansteht\, muss sie sich entscheiden: bleibt Pippi bei ihren neuen Freu
 nden oder sticht sie mit Papa in See?Das Stück ermutigt Kinder dazu\, sie
  selbst zu sein – ganz egal\, was andere denken! Und Astrid Lindgren sch
 rieb\, dass Pippi allen zeige\, „(…) dass man Macht haben kann\, ohne 
 sie zu missbrauchen.”Viel Spaß wünschen Ihnen das Bezirksamt Spandau u
 nd das BKT!
X-ALT-DESC;FMTTYPE=text/html:
LOCATION:Berliner KinderTheater | Sommertheater Freilichtbühne Spandau, A
 m Juliusturm 62 , 13359 Berlin, Tel: 030 62705926
END:VEVENT
END:VCALENDAR
